Workbook
Name universita: Finale!$G$1:$H$75

Sheet Retta
A1: Università | B1: Retta | C1: Tipo | D1: Punteggio
A2: L’Aquila | B2: 49 | C2: Pubblica | D2: =VLOOKUP(A2,Punteggio!A:B,2,FALSE) -> 357.9
A3: Bari Politecnico | B3: 342 | C3: Pubblica | D3: =VLOOKUP(A3,Punteggio!A:B,2,FALSE) -> 528.1
A4: Calabria | B4: 414 | C4: Pubblica | D4: =VLOOKUP(A4,Punteggio!A:B,2,FALSE) -> 443.9
A5: Foggia | B5: 453 | C5: Pubblica | D5: =VLOOKUP(A5,Punteggio!A:B,2,FALSE) -> 347.4
A6: Potenza | B6: 462 | C6: Pubblica | D6: =VLOOKUP(A6,Punteggio!A:B,2,FALSE) -> 410.5
A7: Lecce | B7: 491 | C7: Pubblica | D7: =VLOOKUP(A7,Punteggio!A:B,2,FALSE) -> 349.1
A8: Palermo | B8: 501 | C8: Pubblica | D8: =VLOOKUP(A8,Punteggio!A:B,2,FALSE) -> 314
A9: Reggio Calabria | B9: 511 | C9: Pubblica | D9: =VLOOKUP(A9,Punteggio!A:B,2,FALSE) -> 370.2
A10: Catanzaro | B10: 514 | C10: Pubblica | D10: =VLOOKUP(A10,Punteggio!A:B,2,FALSE) -> 368.4
A11: Napoli Parthenope | B11: 528 | C11: Pubblica | D11: =VLOOKUP(A11,Punteggio!A:B,2,FALSE) -> 200
A12: Sassari | B12: 554 | C12: Pubblica | D12: =VLOOKUP(A12,Punteggio!A:B,2,FALSE) -> 364.9
A13: Macerata | B13: 560 | C13: Pubblica | D13: =VLOOKUP(A13,Punteggio!A:B,2,FALSE) -> 336.8
... A77: Roma Tor Vergata | B77: 0 | C77: Pubblica | D77: =VLOOKUP(A77,Punteggio!A:B,2,FALSE) -> 519.3

Sheet Punteggio
A1: Università | B1: Punteggio | C1: Retta
A2: L’Aquila | B2: 357.9 | C2: =VLOOKUP(A2,Retta!A:B,2,FALSE) -> 49
A3: Bari Politecnico | B3: 528.1 | C3: =VLOOKUP(A3,Retta!A:B,2,FALSE) -> 342
A4: Calabria | B4: 443.9 | C4: =VLOOKUP(A4,Retta!A:B,2,FALSE) -> 414
A5: Foggia | B5: 347.4 | C5: =VLOOKUP(A5,Retta!A:B,2,FALSE) -> 453
A6: Potenza | B6: 410.5 | C6: =VLOOKUP(A6,Retta!A:B,2,FALSE) -> 462
A7: Lecce | B7: 349.1 | C7: =VLOOKUP(A7,Retta!A:B,2,FALSE) -> 491
A8: Palermo | B8: 314 | C8: =VLOOKUP(A8,Retta!A:B,2,FALSE) -> 501
A9: Reggio Calabria | B9: 370.2 | C9: =VLOOKUP(A9,Retta!A:B,2,FALSE) -> 511
A10: Catanzaro | B10: 368.4 | C10: =VLOOKUP(A10,Retta!A:B,2,FALSE) -> 514
A11: Napoli Parthenope | B11: 200 | C11: =VLOOKUP(A11,Retta!A:B,2,FALSE) -> 528
A12: Sassari | B12: 364.9 | C12: =VLOOKUP(A12,Retta!A:B,2,FALSE) -> 554
A13: Macerata | B13: 336.8 | C13: =VLOOKUP(A13,Retta!A:B,2,FALSE) -> 560
... A66: Milano Bocconi | B66: 730.8 | C66: =VLOOKUP(A66,Retta!A:B,2,FALSE) -> 8258
A67: Benevento | B67: 454.4
A68: Campobasso | B68: 415.8
A69: Cassino | B69: 270.2
A70: Catania | B70: 478.9
A71: Napoli Orientale | B71: 314
A72: Roma La Sapienza | B72: 363.2
A73: Roma Tor Vergata | B73: 519.3
A74: Bra Scienze Gastronomiche
A75: Roma Campus Biomedico
A76: Roma Foro Italico
A77: Siena Stranieri

Sheet Finale
A1: =IF(Retta!A1=0,"",Retta!A1) -> Università | B1: =IF(Retta!B1=0,"",Retta!B1) -> Retta | C1: =IF(Retta!C1=0,"",Retta!C1) -> Tipo | D1: =IF(Retta!D1=0,"",Retta!D1) -> Punteggio | E1: Città | F1: Indirizzo | G1: latitude-old | H1: longitude-old | I1: Correzione | J1: latitude | K1: longitude
A2: =IF(Retta!A70=0,"",Retta!A70) -> Bra Scienze Gastronomiche | B2: =IF(Retta!B70=0,"",Retta!B70) -> 11873 | C2: =IF(Retta!C70=0,"",Retta!C70) -> Privata | D2: =IF(Retta!D70=0,"",Retta!D70) | E2: Bra | F2: =CONCATENATE(E2,", Italia") -> Bra, Italia | G2: 44.695457 | H2: 7.857138 | I2: 0 | J2: =G2+I2 -> 44.695457 | K2: =H2+I2 -> 7.857138
A3: =IF(Retta!A65=0,"",Retta!A65) -> Roma Campus Biomedico | B3: =IF(Retta!B65=0,"",Retta!B65) -> 5556 | C3: =IF(Retta!C65=0,"",Retta!C65) -> Privata | D3: =IF(Retta!D65=0,"",Retta!D65) | E3: Roma | F3: =CONCATENATE(E3,", Italia") -> Roma, Italia | G3: 41.90311 | H3: 12.49576 | I3: 0 | J3: =G3+I3 -> 41.90311 | K3: =H3+I3 -> 12.49576
A4: =IF(Retta!A38=0,"",Retta!A38) -> Roma Foro Italico | B4: =IF(Retta!B38=0,"",Retta!B38) -> 1028 | C4: =IF(Retta!C38=0,"",Retta!C38) -> Pubblica | D4: =IF(Retta!D38=0,"",Retta!D38) | E4: Roma | F4: =CONCATENATE(E4,", Italia") -> Roma, Italia | G4: 41.90311 | H4: 12.49576 | I4: 0.02 | J4: =G4+I4 -> 41.92311 | K4: =H4+I4 -> 12.51576
A5: =IF(Retta!A37=0,"",Retta!A37) -> Siena Stranieri | B5: =IF(Retta!B37=0,"",Retta!B37) -> 1019 | C5: =IF(Retta!C37=0,"",Retta!C37) -> Pubblica | D5: =IF(Retta!D37=0,"",Retta!D37) | E5: Siena | F5: =CONCATENATE(E5,", Italia") -> Siena, Italia | G5: 43.32544 | H5: 11.330766 | I5: 0.01 | J5: =G5+I5 -> 43.33544 | K5: =H5+I5 -> 11.340766
A6: =IF(Retta!A67=0,"",Retta!A67) -> Milano San Raffaele | B6: =IF(Retta!B67=0,"",Retta!B67) -> 6190 | C6: =IF(Retta!C67=0,"",Retta!C67) -> Privata | D6: =IF(Retta!D67=0,"",Retta!D67) -> 838.5 | E6: Milano | F6: =CONCATENATE(E6,", Italia") -> Milano, Italia | G6: 45.468945 | H6: 9.18103 | I6: 0.05 | J6: =G6+I6 -> 45.518945 | K6: =H6+I6 -> 9.23103
A7: =IF(Retta!A32=0,"",Retta!A32) -> Torino Politecnico | B7: =IF(Retta!B32=0,"",Retta!B32) -> 937 | C7: =IF(Retta!C32=0,"",Retta!C32) -> Pubblica | D7: =IF(Retta!D32=0,"",Retta!D32) -> 829.8 | E7: Torino | F7: =CONCATENATE(E7,", Italia") -> Torino, Italia | G7: 45.069512 | H7: 7.705403 | I7: 0.01 | J7: =G7+I7 -> 45.079512 | K7: =H7+I7 -> 7.715403
A8: =IF(Retta!A57=0,"",Retta!A57) -> Milano Politecnico | B8: =IF(Retta!B57=0,"",Retta!B57) -> 1726 | C8: =IF(Retta!C57=0,"",Retta!C57) -> Pubblica | D8: =IF(Retta!D57=0,"",Retta!D57) -> 796.4 | E8: Milano | F8: =CONCATENATE(E8,", Italia") -> Milano, Italia | G8: 45.468945 | H8: 9.18103 | I8: 0.04 | J8: =G8+I8 -> 45.508945 | K8: =H8+I8 -> 9.22103
A9: =IF(Retta!A69=0,"",Retta!A69) -> Milano Bocconi | B9: =IF(Retta!B69=0,"",Retta!B69) -> 8258 | C9: =IF(Retta!C69=0,"",Retta!C69) -> Privata | D9: =IF(Retta!D69=0,"",Retta!D69) -> 730.8 | E9: Milano | F9: =CONCATENATE(E9,", Italia") -> Milano, Italia | G9: 45.468945 | H9: 9.18103 | I9: 0.01 | J9: =G9+I9 -> 45.478945 | K9: =H9+I9 -> 9.19103
A10: =IF(Retta!A24=0,"",Retta!A24) -> Trento | B10: =IF(Retta!B24=0,"",Retta!B24) -> 805 | C10: =IF(Retta!C24=0,"",Retta!C24) -> Pubblica | D10: =IF(Retta!D24=0,"",Retta!D24) -> 714 | E10: =A10 -> Trento | F10: =CONCATENATE(E10,", Italia") -> Trento, Italia | G10: 46.070001 | H10: 11.118865 | I10: 0 | J10: =G10+I10 -> 46.070001 | K10: =H10+I10 -> 11.118865
A11: =IF(Retta!A41=0,"",Retta!A41) -> Ferrara | B11: =IF(Retta!B41=0,"",Retta!B41) -> 1113 | C11: =IF(Retta!C41=0,"",Retta!C41) -> Pubblica | D11: =IF(Retta!D41=0,"",Retta!D41) -> 705.3 | E11: =A11 -> Ferrara | F11: =CONCATENATE(E11,", Italia") -> Ferrara, Italia | G11: 44.838365 | H11: 11.61942 | I11: 0 | J11: =G11+I11 -> 44.838365 | K11: =H11+I11 -> 11.61942
A12: =IF(Retta!A40=0,"",Retta!A40) -> Udine | B12: =IF(Retta!B40=0,"",Retta!B40) -> 1102 | C12: =IF(Retta!C40=0,"",Retta!C40) -> Pubblica | D12: =IF(Retta!D40=0,"",Retta!D40) -> 705.3 | E12: =A12 -> Udine | F12: =CONCATENATE(E12,", Italia") -> Udine, Italia | G12: 46.065122 | H12: 13.23737 | I12: 0 | J12: =G12+I12 -> 46.065122 | K12: =H12+I12 -> 13.23737
A13: =IF(Retta!A53=0,"",Retta!A53) -> Venezia Iuav | B13: =IF(Retta!B53=0,"",Retta!B53) -> 1411 | C13: =IF(Retta!C53=0,"",Retta!C53) -> Pubblica | D13: =IF(Retta!D53=0,"",Retta!D53) -> 703.5 | E13: Venezia | F13: =CONCATENATE(E13,", Italia") -> Venezia, Italia | G13: 45.438254 | H13: 12.318495 | I13: 0.01 | J13: =G13+I13 -> 45.448254 | K13: =H13+I13 -> 12.328495
A14: =IF(Retta!A52=0,"",Retta!A52) -> Modena Reggio Emilia | B14: =IF(Retta!B52=0,"",Retta!B52) -> 1329 | C14: =IF(Retta!C52=0,"",Retta!C52) -> Pubblica | D14: =IF(Retta!D52=0,"",Retta!D52) -> 698.2 | E14: Modena | F14: =CONCATENATE(E14,", Italia") -> Modena, Italia | G14: 44.643115 | H14: 10.93408 | I14: 0 | J14: =G14+I14 -> 44.643115 | K14: =H14+I14 -> 10.93408
A15: =IF(Retta!A51=0,"",Retta!A51) -> Pavia | B15: =IF(Retta!B51=0,"",Retta!B51) -> 1327 | C15: =IF(Retta!C51=0,"",Retta!C51) -> Pubblica | D15: =IF(Retta!D51=0,"",Retta!D51) -> 696.5 | E15: =A15 -> Pavia | F15: =CONCATENATE(E15,", Italia") -> Pavia, Italia | G15: 45.19082 | H15: 9.150459 | I15: 0 | J15: =G15+I15 -> 45.19082 | K15: =H15+I15 -> 9.150459
A16: =IF(Retta!A68=0,"",Retta!A68) -> Roma Luiss | B16: =IF(Retta!B68=0,"",Retta!B68) -> 6861 | C16: =IF(Retta!C68=0,"",Retta!C68) -> Privata | D16: =IF(Retta!D68=0,"",Retta!D68) -> 676.9 | E16: Roma | F16: =CONCATENATE(E16,", Italia") -> Roma, Italia | G16: 41.90311 | H16: 12.49576 | I16: 0.04 | J16: =G16+I16 -> 41.94311 | K16: =H16+I16 -> 12.53576
A17: =IF(Retta!A34=0,"",Retta!A34) -> Perugia | B17: =IF(Retta!B34=0,"",Retta!B34) -> 945 | C17: =IF(Retta!C34=0,"",Retta!C34) -> Pubblica | D17: =IF(Retta!D34=0,"",Retta!D34) -> 675.4 | E17: =A17 -> Perugia | F17: =CONCATENATE(E17,", Italia") -> Perugia, Italia | G17: 43.111285 | H17: 12.38393 | I17: 0 | J17: =G17+I17 -> 43.111285 | K17: =H17+I17 -> 12.38393
A18: =IF(Retta!A46=0,"",Retta!A46) -> Padova | B18: =IF(Retta!B46=0,"",Retta!B46) -> 1207 | C18: =IF(Retta!C46=0,"",Retta!C46) -> Pubblica | D18: =IF(Retta!D46=0,"",Retta!D46) -> 663.2 | E18: =A18 -> Padova | F18: =CONCATENATE(E18,", Italia") -> Padova, Italia | G18: 45.409285 | H18: 11.872849 | I18: 0 | J18: =G18+I18 -> 45.409285 | K18: =H18+I18 -> 11.872849
A19: =IF(Retta!A20=0,"",Retta!A20) -> Ancona Politecnica | B19: =IF(Retta!B20=0,"",Retta!B20) -> 750 | C19: =IF(Retta!C20=0,"",Retta!C20) -> Pubblica | D19: =IF(Retta!D20=0,"",Retta!D20) -> 657.9 | E19: Ancona | F19: =CONCATENATE(E19,", Italia") -> Ancona, Italia | G19: 43.6182 | H19: 13.508665 | I19: 0 | J19: =G19+I19 -> 43.6182 | K19: =H19+I19 -> 13.508665
A20: =IF(Retta!A25=0,"",Retta!A25) -> Viterbo | B20: =IF(Retta!B25=0,"",Retta!B25) -> 816 | C20: =IF(Retta!C25=0,"",Retta!C25) -> Pubblica | D20: =IF(Retta!D25=0,"",Retta!D25) -> 657.9 | E20: =A20 -> Viterbo | F20: =CONCATENATE(E20,", Italia") -> Viterbo, Italia | G20: 42.419722 | H20: 12.110072 | I20: 0 | J20: =G20+I20 -> 42.419722 | K20: =H20+I20 -> 12.110072
A21: =IF(Retta!A30=0,"",Retta!A30) -> Firenze | B21: =IF(Retta!B30=0,"",Retta!B30) -> 896 | C21: =IF(Retta!C30=0,"",Retta!C30) -> Pubblica | D21: =IF(Retta!D30=0,"",Retta!D30) -> 621.1 | E21: =A21 -> Firenze | F21: =CONCATENATE(E21,", Italia") -> Firenze, Italia | G21: 43.78237 | H21: 11.254995 | I21: 0 | J21: =G21+I21 -> 43.78237 | K21: =H21+I21 -> 11.254995
A22: =IF(Retta!A39=0,"",Retta!A39) -> Milano Bicocca | B22: =IF(Retta!B39=0,"",Retta!B39) -> 1088 | C22: =IF(Retta!C39=0,"",Retta!C39) -> Pubblica | D22: =IF(Retta!D39=0,"",Retta!D39) -> 617.5 | E22: Milano | F22: =CONCATENATE(E22,", Italia") -> Milano, Italia | G22: 45.468945 | H22: 9.18103 | I22: 0 | J22: =G22+I22 -> 45.468945 | K22: =H22+I22 -> 9.18103
A23: =IF(Retta!A21=0,"",Retta!A21) -> Bolzano | B23: =IF(Retta!B21=0,"",Retta!B21) -> 782 | C23: =IF(Retta!C21=0,"",Retta!C21) -> Privata | D23: =IF(Retta!D21=0,"",Retta!D21) -> 615.4 | E23: =A23 -> Bolzano | F23: =CONCATENATE(E23,", Italia") -> Bolzano, Italia | G23: 46.495002 | H23: 11.354456 | I23: 0 | J23: =G23+I23 -> 46.495002 | K23: =H23+I23 -> 11.354456
A24: =IF(Retta!A35=0,"",Retta!A35) -> Parma | B24: =IF(Retta!B35=0,"",Retta!B35) -> 957 | C24: =IF(Retta!C35=0,"",Retta!C35) -> Pubblica | D24: =IF(Retta!D35=0,"",Retta!D35) -> 598.2 | E24: =A24 -> Parma | F24: =CONCATENATE(E24,", Italia") -> Parma, Italia | G24: 44.79864 | H24: 10.339925 | I24: 0 | J24: =G24+I24 -> 44.79864 | K24: =H24+I24 -> 10.339925
A25: =IF(Retta!A48=0,"",Retta!A48) -> Varese Insubria | B25: =IF(Retta!B48=0,"",Retta!B48) -> 1252 | C25: =IF(Retta!C48=0,"",Retta!C48) -> Pubblica | D25: =IF(Retta!D48=0,"",Retta!D48) -> 594.7 | E25: Varese | F25: =CONCATENATE(E25,", Italia") -> Varese, Italia | G25: 45.814757 | H25: 8.830132 | I25: 0 | J25: =G25+I25 -> 45.814757 | K25: =H25+I25 -> 8.830132
A26: =IF(Retta!A28=0,"",Retta!A28) -> Piemonte Orientale | B26: =IF(Retta!B28=0,"",Retta!B28) -> 865 | C26: =IF(Retta!C28=0,"",Retta!C28) -> Pubblica | D26: =IF(Retta!D28=0,"",Retta!D28) -> 591.2 | E26: Alessandria | F26: =CONCATENATE(E26,", Italia") -> Alessandria, Italia | G26: 44.907262 | H26: 8.61098 | I26: 0 | J26: =G26+I26 -> 44.907262 | K26: =H26+I26 -> 8.61098
A27: =IF(Retta!A54=0,"",Retta!A54) -> Bologna | B27: =IF(Retta!B54=0,"",Retta!B54) -> 1426 | C27: =IF(Retta!C54=0,"",Retta!C54) -> Pubblica | D27: =IF(Retta!D54=0,"",Retta!D54) -> 586 | E27: =A27 -> Bologna | F27: =CONCATENATE(E27,", Italia") -> Bologna, Italia | G27: 44.50483 | H27: 11.345169 | I27: 0 | J27: =G27+I27 -> 44.50483 | K27: =H27+I27 -> 11.345169
A28: =IF(Retta!A47=0,"",Retta!A47) -> Trieste | B28: =IF(Retta!B47=0,"",Retta!B47) -> 1227 | C28: =IF(Retta!C47=0,"",Retta!C47) -> Pubblica | D28: =IF(Retta!D47=0,"",Retta!D47) -> 584.2 | E28: =A28 -> Trieste | F28: =CONCATENATE(E28,", Italia") -> Trieste, Italia | G28: 45.65065 | H28: 13.76709 | I28: 0 | J28: =G28+I28 -> 45.65065 | K28: =H28+I28 -> 13.76709
A29: =IF(Retta!A49=0,"",Retta!A49) -> Venezia Ca’ Foscari | B29: =IF(Retta!B49=0,"",Retta!B49) -> 1254 | C29: =IF(Retta!C49=0,"",Retta!C49) -> Pubblica | D29: =IF(Retta!D49=0,"",Retta!D49) -> 580.7 | E29: Venezia | F29: =CONCATENATE(E29,", Italia") -> Venezia, Italia | G29: 45.438254 | H29: 12.318495 | I29: 0 | J29: =G29+I29 -> 45.438254 | K29: =H29+I29 -> 12.318495
A30: =IF(Retta!A50=0,"",Retta!A50) -> Siena | B30: =IF(Retta!B50=0,"",Retta!B50) -> 1261 | C30: =IF(Retta!C50=0,"",Retta!C50) -> Pubblica | D30: =IF(Retta!D50=0,"",Retta!D50) -> 570.2 | E30: =A30 -> Siena | F30: =CONCATENATE(E30,", Italia") -> Siena, Italia | G30: 43.32544 | H30: 11.330766 | I30: 0 | J30: =G30+I30 -> 43.32544 | K30: =H30+I30 -> 11.330766
A31: =IF(Retta!A33=0,"",Retta!A33) -> Pisa | B31: =IF(Retta!B33=0,"",Retta!B33) -> 940 | C31: =IF(Retta!C33=0,"",Retta!C33) -> Pubblica | D31: =IF(Retta!D33=0,"",Retta!D33) -> 549.1 | E31: =A31 -> Pisa | F31: =CONCATENATE(E31,", Italia") -> Pisa, Italia | G31: 43.70996 | H31: 10.39946 | I31: 0 | J31: =G31+I31 -> 43.70996 | K31: =H31+I31 -> 10.39946
A32: =IF(Retta!A31=0,"",Retta!A31) -> Camerino | B32: =IF(Retta!B31=0,"",Retta!B31) -> 901 | C32: =IF(Retta!C31=0,"",Retta!C31) -> Pubblica | D32: =IF(Retta!D31=0,"",Retta!D31) -> 538.6 | E32: =A32 -> Camerino | F32: =CONCATENATE(E32,", Italia") -> Camerino, Italia | G32: 43.138211 | H32: 13.073124 | I32: 0 | J32: =G32+I32 -> 43.138211 | K32: =H32+I32 -> 13.073124
A33: =IF(Retta!A66=0,"",Retta!A66) -> Castellanza Liuc | B33: =IF(Retta!B66=0,"",Retta!B66) -> 5565 | C33: =IF(Retta!C66=0,"",Retta!C66) -> Privata | D33: =IF(Retta!D66=0,"",Retta!D66) -> 538.5 | E33: Castellanza | F33: =CONCATENATE(E33,", Italia") -> Castellanza, Italia | G33: 45.611318 | H33: 8.901402 | I33: 0 | J33: =G33+I33 -> 45.611318 | K33: =H33+I33 -> 8.901402
A34: =IF(Retta!A45=0,"",Retta!A45) -> Brescia | B34: =IF(Retta!B45=0,"",Retta!B45) -> 1172 | C34: =IF(Retta!C45=0,"",Retta!C45) -> Pubblica | D34: =IF(Retta!D45=0,"",Retta!D45) -> 531.6 | E34: =A34 -> Brescia | F34: =CONCATENATE(E34,", Italia") -> Brescia, Italia | G34: 45.536615 | H34: 10.232025 | I34: 0 | J34: =G34+I34 -> 45.536615 | K34: =H34+I34 -> 10.232025
A35: =IF(Retta!A43=0,"",Retta!A43) -> Genova | B35: =IF(Retta!B43=0,"",Retta!B43) -> 1125 | C35: =IF(Retta!C43=0,"",Retta!C43) -> Pubblica | D35: =IF(Retta!D43=0,"",Retta!D43) -> 531.6 | E35: =A35 -> Genova | F35: =CONCATENATE(E35,", Italia") -> Genova, Italia | G35: 44.410339 | H35: 8.9389 | I35: 0 | J35: =G35+I35 -> 44.410339 | K35: =H35+I35 -> 8.9389
A36: =IF(Retta!A3=0,"",Retta!A3) -> Bari Politecnico | B36: =IF(Retta!B3=0,"",Retta!B3) -> 342 | C36: =IF(Retta!C3=0,"",Retta!C3) -> Pubblica | D36: =IF(Retta!D3=0,"",Retta!D3) -> 528.1 | E36: Bari | F36: =CONCATENATE(E36,", Italia") -> Bari, Italia | G36: 41.12587 | H36: 16.86665 | I36: 0.02 | J36: =G36+I36 -> 41.14587 | K36: =H36+I36 -> 16.88665
A37: =IF(Retta!A42=0,"",Retta!A42) -> Torino | B37: =IF(Retta!B42=0,"",Retta!B42) -> 1119 | C37: =IF(Retta!C42=0,"",Retta!C42) -> Pubblica | D37: =IF(Retta!D42=0,"",Retta!D42) -> 526.3 | E37: =A37 -> Torino | F37: =CONCATENATE(E37,", Italia") -> Torino, Italia | G37: 45.069512 | H37: 7.705403 | I37: 0 | J37: =G37+I37 -> 45.069512 | K37: =H37+I37 -> 7.705403
A38: =IF(Retta!A56=0,"",Retta!A56) -> Milano Statale | B38: =IF(Retta!B56=0,"",Retta!B56) -> 1499 | C38: =IF(Retta!C56=0,"",Retta!C56) -> Pubblica | D38: =IF(Retta!D56=0,"",Retta!D56) -> 503.5 | E38: Milano | F38: =CONCATENATE(E38,", Italia") -> Milano, Italia | G38: 45.468945 | H38: 9.18103 | I38: 0.06 | J38: =G38+I38 -> 45.528945 | K38: =H38+I38 -> 9.24103
A39: =IF(Retta!A60=0,"",Retta!A60) -> Milano Cattolica | B39: =IF(Retta!B60=0,"",Retta!B60) -> 4072 | C39: =IF(Retta!C60=0,"",Retta!C60) -> Privata | D39: =IF(Retta!D60=0,"",Retta!D60) -> 500 | E39: Milano | F39: =CONCATENATE(E39,", Italia") -> Milano, Italia | G39: 45.468945 | H39: 9.18103 | I39: 0.02 | J39: =G39+I39 -> 45.488945 | K39: =H39+I39 -> 9.20103
A40: =IF(Retta!A62=0,"",Retta!A62) -> Milano Iulm | B40: =IF(Retta!B62=0,"",Retta!B62) -> 4481 | C40: =IF(Retta!C62=0,"",Retta!C62) -> Privata | D40: =IF(Retta!D62=0,"",Retta!D62) -> 492.3 | E40: Milano | F40: =CONCATENATE(E40,", Italia") -> Milano, Italia | G40: 45.468945 | H40: 9.18103 | I40: 0.03 | J40: =G40+I40 -> 45.498945 | K40: =H40+I40 -> 9.21103
A41: =IF(Retta!A36=0,"",Retta!A36) -> Verona | B41: =IF(Retta!B36=0,"",Retta!B36) -> 987 | C41: =IF(Retta!C36=0,"",Retta!C36) -> Pubblica | D41: =IF(Retta!D36=0,"",Retta!D36) -> 491.2 | E41: =A41 -> Verona | F41: =CONCATENATE(E41,", Italia") -> Verona, Italia | G41: 45.438113 | H41: 10.991505 | I41: 0 | J41: =G41+I41 -> 45.438113 | K41: =H41+I41 -> 10.991505
A42: =IF(Retta!A14=0,"",Retta!A14) -> Valle d’Aosta | B42: =IF(Retta!B14=0,"",Retta!B14) -> 564 | C42: =IF(Retta!C14=0,"",Retta!C14) -> Privata | D42: =IF(Retta!D14=0,"",Retta!D14) -> 484.6 | E42: Aosta | F42: =CONCATENATE(E42,", Italia") -> Aosta, Italia | G42: 45.73751 | H42: 7.32072 | I42: 0 | J42: =G42+I42 -> 45.73751 | K42: =H42+I42 -> 7.32072
A43: =IF(Retta!A64=0,"",Retta!A64) -> Roma Luspio | B43: =IF(Retta!B64=0,"",Retta!B64) -> 5507 | C43: =IF(Retta!C64=0,"",Retta!C64) -> Privata | D43: =IF(Retta!D64=0,"",Retta!D64) -> 476.9 | E43: Roma | F43: =CONCATENATE(E43,", Italia") -> Roma, Italia | G43: 41.90311 | H43: 12.49576 | I43: 0.06 | J43: =G43+I43 -> 41.96311 | K43: =H43+I43 -> 12.55576
A44: =IF(Retta!A27=0,"",Retta!A27) -> Napoli Federico II | B44: =IF(Retta!B27=0,"",Retta!B27) -> 844 | C44: =IF(Retta!C27=0,"",Retta!C27) -> Pubblica | D44: =IF(Retta!D27=0,"",Retta!D27) -> 471.9 | E44: Napoli | F44: =CONCATENATE(E44,", Italia") -> Napoli, Italia | G44: 40.839941 | H44: 14.251762 | I44: 0 | J44: =G44+I44 -> 40.839941 | K44: =H44+I44 -> 14.251762
A45: =IF(Retta!A29=0,"",Retta!A29) -> Bergamo | B45: =IF(Retta!B29=0,"",Retta!B29) -> 883 | C45: =IF(Retta!C29=0,"",Retta!C29) -> Pubblica | D45: =IF(Retta!D29=0,"",Retta!D29) -> 456.1 | E45: =A45 -> Bergamo | F45: =CONCATENATE(E45,", Italia") -> Bergamo, Italia | G45: 45.69522 | H45: 9.66948 | I45: 0 | J45: =G45+I45 -> 45.69522 | K45: =H45+I45 -> 9.66948
A46: =IF(Retta!A75=0,"",Retta!A75) -> Benevento | B46: =IF(Retta!B75=0,"",Retta!B75) | C46: =IF(Retta!C75=0,"",Retta!C75) -> Pubblica | D46: =IF(Retta!D75=0,"",Retta!D75) -> 454.4 | E46: =A46 -> Benevento | F46: =CONCATENATE(E46,", Italia") -> Benevento, Italia | G46: 41.12996 | H46: 14.78549 | I46: 0 | J46: =G46+I46 -> 41.12996 | K46: =H46+I46 -> 14.78549
A47: =IF(Retta!A44=0,"",Retta!A44) -> Urbino | B47: =IF(Retta!B44=0,"",Retta!B44) -> 1133 | C47: =IF(Retta!C44=0,"",Retta!C44) -> Pubblica | D47: =IF(Retta!D44=0,"",Retta!D44) -> 447.4 | E47: =A47 -> Urbino | F47: =CONCATENATE(E47,", Italia") -> Urbino, Italia | G47: 43.723552 | H47: 12.634645 | I47: 0 | J47: =G47+I47 -> 43.723552 | K47: =H47+I47 -> 12.634645
A48: =IF(Retta!A4=0,"",Retta!A4) -> Calabria | B48: =IF(Retta!B4=0,"",Retta!B4) -> 414 | C48: =IF(Retta!C4=0,"",Retta!C4) -> Pubblica | D48: =IF(Retta!D4=0,"",Retta!D4) -> 443.9 | E48: =A48 -> Calabria | F48: =CONCATENATE(E48,", Italia") -> Calabria, Italia | G48: 39.02985 | H48: 16.417971 | I48: 0 | J48: =G48+I48 -> 39.02985 | K48: =H48+I48 -> 16.417971
A49: =IF(Retta!A59=0,"",Retta!A59) -> Roma Lumsa | B49: =IF(Retta!B59=0,"",Retta!B59) -> 2840 | C49: =IF(Retta!C59=0,"",Retta!C59) -> Privata | D49: =IF(Retta!D59=0,"",Retta!D59) -> 423.1 | E49: Roma | F49: =CONCATENATE(E49,", Italia") -> Roma, Italia | G49: 41.90311 | H49: 12.49576 | I49: 0.05 | J49: =G49+I49 -> 41.95311 | K49: =H49+I49 -> 12.54576
A50: =IF(Retta!A74=0,"",Retta!A74) -> Campobasso | B50: =IF(Retta!B74=0,"",Retta!B74) | C50: =IF(Retta!C74=0,"",Retta!C74) -> Pubblica | D50: =IF(Retta!D74=0,"",Retta!D74) -> 415.8 | E50: =A50 -> Campobasso | F50: =CONCATENATE(E50,", Italia") -> Campobasso, Italia | G50: 41.561485 | H50: 14.668995 | I50: 0 | J50: =G50+I50 -> 41.561485 | K50: =H50+I50 -> 14.668995
A51: =IF(Retta!A18=0,"",Retta!A18) -> Chieti Pescara | B51: =IF(Retta!B18=0,"",Retta!B18) -> 609 | C51: =IF(Retta!C18=0,"",Retta!C18) -> Pubblica | D51: =IF(Retta!D18=0,"",Retta!D18) -> 415.8 | E51: Chieti | F51: =CONCATENATE(E51,", Italia") -> Chieti, Italia | G51: 42.345949 | H51: 14.165408 | I51: 0 | J51: =G51+I51 -> 42.345949 | K51: =H51+I51 -> 14.165408
A52: =IF(Retta!A26=0,"",Retta!A26) -> Napoli II Università | B52: =IF(Retta!B26=0,"",Retta!B26) -> 826 | C52: =IF(Retta!C26=0,"",Retta!C26) -> Pubblica | D52: =IF(Retta!D26=0,"",Retta!D26) -> 415.8 | E52: Napoli | F52: =CONCATENATE(E52,", Italia") -> Napoli, Italia | G52: 40.839941 | H52: 14.251762 | I52: 0.01 | J52: =G52+I52 -> 40.849941 | K52: =H52+I52 -> 14.261762
A53: =IF(Retta!A6=0,"",Retta!A6) -> Potenza | B53: =IF(Retta!B6=0,"",Retta!B6) -> 462 | C53: =IF(Retta!C6=0,"",Retta!C6) -> Pubblica | D53: =IF(Retta!D6=0,"",Retta!D6) -> 410.5 | E53: =A53 -> Potenza | F53: =CONCATENATE(E53,", Italia") -> Potenza, Italia | G53: 40.637202 | H53: 15.799273 | I53: 0 | J53: =G53+I53 -> 40.637202 | K53: =H53+I53 -> 15.799273
A54: =IF(Retta!A63=0,"",Retta!A63) -> Roma Europea | B54: =IF(Retta!B63=0,"",Retta!B63) -> 5255 | C54: =IF(Retta!C63=0,"",Retta!C63) -> Privata | D54: =IF(Retta!D63=0,"",Retta!D63) -> 380.8 | E54: Roma | F54: =CONCATENATE(E54,", Italia") -> Roma, Italia | G54: 41.90311 | H54: 12.49576 | I54: 0.01 | J54: =G54+I54 -> 41.91311 | K54: =H54+I54 -> 12.50576
A55: =IF(Retta!A19=0,"",Retta!A19) -> Bari | B55: =IF(Retta!B19=0,"",Retta!B19) -> 635 | C55: =IF(Retta!C19=0,"",Retta!C19) -> Pubblica | D55: =IF(Retta!D19=0,"",Retta!D19) -> 380.7 | E55: =A55 -> Bari | F55: =CONCATENATE(E55,", Italia") -> Bari, Italia | G55: 41.12587 | H55: 16.86665 | I55: 0 | J55: =G55+I55 -> 41.12587 | K55: =H55+I55 -> 16.86665
A56: =IF(Retta!A15=0,"",Retta!A15) -> Cagliari | B56: =IF(Retta!B15=0,"",Retta!B15) -> 565 | C56: =IF(Retta!C15=0,"",Retta!C15) -> Pubblica | D56: =IF(Retta!D15=0,"",Retta!D15) -> 375.4 | E56: =A56 -> Cagliari | F56: =CONCATENATE(E56,", Italia") -> Cagliari, Italia | G56: 39.214525 | H56: 9.110492 | I56: 0 | J56: =G56+I56 -> 39.214525 | K56: =H56+I56 -> 9.110492
A57: =IF(Retta!A9=0,"",Retta!A9) -> Reggio Calabria | B57: =IF(Retta!B9=0,"",Retta!B9) -> 511 | C57: =IF(Retta!C9=0,"",Retta!C9) -> Pubblica | D57: =IF(Retta!D9=0,"",Retta!D9) -> 370.2 | E57: =A57 -> Reggio Calabria | F57: =CONCATENATE(E57,", Italia") -> Reggio Calabria, Italia | G57: 38.112705 | H57: 15.65172 | I57: 0 | J57: =G57+I57 -> 38.112705 | K57: =H57+I57 -> 15.65172
A58: =IF(Retta!A61=0,"",Retta!A61) -> Bari Jean Monnet | B58: =IF(Retta!B61=0,"",Retta!B61) -> 4093 | C58: =IF(Retta!C61=0,"",Retta!C61) -> Privata | D58: =IF(Retta!D61=0,"",Retta!D61) -> 369.2 | E58: Bari | F58: =CONCATENATE(E58,", Italia") -> Bari, Italia | G58: 41.12587 | H58: 16.86665 | I58: 0.01 | J58: =G58+I58 -> 41.13587 | K58: =H58+I58 -> 16.87665
A59: =IF(Retta!A10=0,"",Retta!A10) -> Catanzaro | B59: =IF(Retta!B10=0,"",Retta!B10) -> 514 | C59: =IF(Retta!C10=0,"",Retta!C10) -> Pubblica | D59: =IF(Retta!D10=0,"",Retta!D10) -> 368.4 | E59: =A59 -> Catanzaro | F59: =CONCATENATE(E59,", Italia") -> Catanzaro, Italia | G59: 38.91444 | H59: 16.584343 | I59: 0 | J59: =G59+I59 -> 38.91444 | K59: =H59+I59 -> 16.584343
A60: =IF(Retta!A12=0,"",Retta!A12) -> Sassari | B60: =IF(Retta!B12=0,"",Retta!B12) -> 554 | C60: =IF(Retta!C12=0,"",Retta!C12) -> Pubblica | D60: =IF(Retta!D12=0,"",Retta!D12) -> 364.9 | E60: =A60 -> Sassari | F60: =CONCATENATE(E60,", Italia") -> Sassari, Italia | G60: 40.726811 | H60: 8.554314 | I60: 0 | J60: =G60+I60 -> 40.726811 | K60: =H60+I60 -> 8.554314
A61: =IF(Retta!A73=0,"",Retta!A73) -> Roma La Sapienza | B61: =IF(Retta!B73=0,"",Retta!B73) | C61: =IF(Retta!C73=0,"",Retta!C73) -> Pubblica | D61: =IF(Retta!D73=0,"",Retta!D73) -> 363.2 | E61: Roma | F61: =CONCATENATE(E61,", Italia") -> Roma, Italia | G61: 41.90311 | H61: 12.49576 | I61: 0.03 | J61: =G61+I61 -> 41.93311 | K61: =H61+I61 -> 12.52576
A62: =IF(Retta!A2=0,"",Retta!A2) -> L’Aquila | B62: =IF(Retta!B2=0,"",Retta!B2) -> 49 | C62: =IF(Retta!C2=0,"",Retta!C2) -> Pubblica | D62: =IF(Retta!D2=0,"",Retta!D2) -> 357.9 | E62: =A62 -> L’Aquila | F62: =CONCATENATE(E62,", Italia") -> L’Aquila, Italia | G62: 42.353884 | H62: 13.394631 | I62: 0 | J62: =G62+I62 -> 42.353884 | K62: =H62+I62 -> 13.394631
A63: =IF(Retta!A16=0,"",Retta!A16) -> Salerno | B63: =IF(Retta!B16=0,"",Retta!B16) -> 586 | C63: =IF(Retta!C16=0,"",Retta!C16) -> Pubblica | D63: =IF(Retta!D16=0,"",Retta!D16) -> 354.4 | E63: =A63 -> Salerno | F63: =CONCATENATE(E63,", Italia") -> Salerno, Italia | G63: 40.677595 | H63: 14.76578 | I63: 0 | J63: =G63+I63 -> 40.677595 | K63: =H63+I63 -> 14.76578
A64: =IF(Retta!A23=0,"",Retta!A23) -> Messina | B64: =IF(Retta!B23=0,"",Retta!B23) -> 799 | C64: =IF(Retta!C23=0,"",Retta!C23) -> Pubblica | D64: =IF(Retta!D23=0,"",Retta!D23) -> 352.6 | E64: =A64 -> Messina | F64: =CONCATENATE(E64,", Italia") -> Messina, Italia | G64: 38.17834 | H64: 15.55309 | I64: 0 | J64: =G64+I64 -> 38.17834 | K64: =H64+I64 -> 15.55309
A65: =IF(Retta!A7=0,"",Retta!A7) -> Lecce | B65: =IF(Retta!B7=0,"",Retta!B7) -> 491 | C65: =IF(Retta!C7=0,"",Retta!C7) -> Pubblica | D65: =IF(Retta!D7=0,"",Retta!D7) -> 349.1 | E65: =A65 -> Lecce | F65: =CONCATENATE(E65,", Italia") -> Lecce, Italia | G65: 40.357955 | H65: 18.16801 | I65: 0 | J65: =G65+I65 -> 40.357955 | K65: =H65+I65 -> 18.16801
A66: =IF(Retta!A5=0,"",Retta!A5) -> Foggia | B66: =IF(Retta!B5=0,"",Retta!B5) -> 453 | C66: =IF(Retta!C5=0,"",Retta!C5) -> Pubblica | D66: =IF(Retta!D5=0,"",Retta!D5) -> 347.4 | E66: =A66 -> Foggia | F66: =CONCATENATE(E66,", Italia") -> Foggia, Italia | G66: 41.46212 | H66: 15.544865 | I66: 0 | J66: =G66+I66 -> 41.46212 | K66: =H66+I66 -> 15.544865
A67: =IF(Retta!A13=0,"",Retta!A13) -> Macerata | B67: =IF(Retta!B13=0,"",Retta!B13) -> 560 | C67: =IF(Retta!C13=0,"",Retta!C13) -> Pubblica | D67: =IF(Retta!D13=0,"",Retta!D13) -> 336.8 | E67: =A67 -> Macerata | F67: =CONCATENATE(E67,", Italia") -> Macerata, Italia | G67: 43.297695 | H67: 13.45583 | I67: 0 | J67: =G67+I67 -> 43.297695 | K67: =H67+I67 -> 13.45583
A68: =IF(Retta!A17=0,"",Retta!A17) -> Teramo | B68: =IF(Retta!B17=0,"",Retta!B17) -> 599 | C68: =IF(Retta!C17=0,"",Retta!C17) -> Pubblica | D68: =IF(Retta!D17=0,"",Retta!D17) -> 328.1 | E68: =A68 -> Teramo | F68: =CONCATENATE(E68,", Italia") -> Teramo, Italia | G68: 42.65726 | H68: 13.69741 | I68: 0 | J68: =G68+I68 -> 42.65726 | K68: =H68+I68 -> 13.69741
A69: =IF(Retta!A72=0,"",Retta!A72) -> Napoli Orientale | B69: =IF(Retta!B72=0,"",Retta!B72) | C69: =IF(Retta!C72=0,"",Retta!C72) -> Pubblica | D69: =IF(Retta!D72=0,"",Retta!D72) -> 314 | E69: Napoli | F69: =CONCATENATE(E69,", Italia") -> Napoli, Italia | G69: 40.839941 | H69: 14.251762 | I69: 0.02 | J69: =G69+I69 -> 40.859941 | K69: =H69+I69 -> 14.271762
A70: =IF(Retta!A8=0,"",Retta!A8) -> Palermo | B70: =IF(Retta!B8=0,"",Retta!B8) -> 501 | C70: =IF(Retta!C8=0,"",Retta!C8) -> Pubblica | D70: =IF(Retta!D8=0,"",Retta!D8) -> 314 | E70: =A70 -> Palermo | F70: =CONCATENATE(E70,", Italia") -> Palermo, Italia | G70: 38.121315 | H70: 13.358455 | I70: 0 | J70: =G70+I70 -> 38.121315 | K70: =H70+I70 -> 13.358455
A71: =IF(Retta!A22=0,"",Retta!A22) -> Roma Tre | B71: =IF(Retta!B22=0,"",Retta!B22) -> 799 | C71: =IF(Retta!C22=0,"",Retta!C22) -> Pubblica | D71: =IF(Retta!D22=0,"",Retta!D22) -> 277.2 | E71: Roma | F71: =CONCATENATE(E71,", Italia") -> Roma, Italia | G71: 41.90311 | H71: 12.49576 | I71: 0.07 | J71: =G71+I71 -> 41.97311 | K71: =H71+I71 -> 12.56576
A72: =IF(Retta!A71=0,"",Retta!A71) -> Cassino | B72: =IF(Retta!B71=0,"",Retta!B71) | C72: =IF(Retta!C71=0,"",Retta!C71) -> Pubblica | D72: =IF(Retta!D71=0,"",Retta!D71) -> 270.2 | E72: =A72 -> Cassino | F72: =CONCATENATE(E72,", Italia") -> Cassino, Italia | G72: 41.49411 | H72: 13.831725 | I72: 0 | J72: =G72+I72 -> 41.49411 | K72: =H72+I72 -> 13.831725
A73: =IF(Retta!A11=0,"",Retta!A11) -> Napoli Parthenope | B73: =IF(Retta!B11=0,"",Retta!B11) -> 528 | C73: =IF(Retta!C11=0,"",Retta!C11) -> Pubblica | D73: =IF(Retta!D11=0,"",Retta!D11) -> 200 | E73: Napoli | F73: =CONCATENATE(E73,", Italia") -> Napoli, Italia | G73: 40.839941 | H73: 14.251762 | I73: 0 | J73: =G73+I73 -> 40.839941 | K73: =H73+I73 -> 14.251762
A74: =IF(Retta!A58=0,"",Retta!A58) -> Enna Kore | B74: =IF(Retta!B58=0,"",Retta!B58) -> 1852 | C74: =IF(Retta!C58=0,"",Retta!C58) -> Privata | D74: =IF(Retta!D58=0,"",Retta!D58) -> 196.2 | E74: Enna | F74: =CONCATENATE(E74,", Italia") -> Enna, Italia | G74: 37.56584 | H74: 14.27183 | I74: 0 | J74: =G74+I74 -> 37.56584 | K74: =H74+I74 -> 14.27183
A75: =IF(Retta!A55=0,"",Retta!A55) -> Napoli S.Orsola | B75: =IF(Retta!B55=0,"",Retta!B55) -> 1437 | C75: =IF(Retta!C55=0,"",Retta!C55) -> Privata | D75: =IF(Retta!D55=0,"",Retta!D55) -> 184.6 | E75: Napoli | F75: =CONCATENATE(E75,", Italia") -> Napoli, Italia | G75: 40.839941 | H75: 14.251762 | I75: 0 | J75: =G75+I75 -> 40.839941 | K75: =H75+I75 -> 14.251762

Sheet Statico
A1: Università | B1: Retta | C1: Tipo | D1: Punteggio | E1: latitude | F1: longitude
A2: Napoli S.Orsola | B2: 1437 | C2: Privata | D2: 184.6 | E2: 43.6182 | F2: 13.508665
A3: Enna Kore | B3: 1852 | C3: Privata | D3: 196.2 | E3: 41.12587 | F3: 16.86665
A4: Napoli Parthenope | B4: 528 | C4: Pubblica | D4: 200 | E4: 41.13587 | F4: 16.87665
A5: Cassino | C5: Pubblica | D5: 270.2 | E5: 41.14587 | F5: 16.88665
A6: Roma Tre | B6: 799 | C6: Pubblica | D6: 277.2 | E6: 41.12996 | F6: 14.78549
A7: Napoli Orientale | C7: Pubblica | D7: 314 | E7: 45.69522 | F7: 9.66948
A8: Palermo | B8: 501 | C8: Pubblica | D8: 314 | E8: 44.50483 | F8: 11.345169
A9: Teramo | B9: 599 | C9: Pubblica | D9: 328.1 | E9: 46.495002 | F9: 11.354456
A10: Macerata | B10: 560 | C10: Pubblica | D10: 336.8 | E10: 44.695457 | F10: 7.857138
A11: Foggia | B11: 453 | C11: Pubblica | D11: 347.4 | E11: 45.536615 | F11: 10.232025
A12: Lecce | B12: 491 | C12: Pubblica | D12: 349.1 | E12: 39.214525 | F12: 9.110492
A13: Messina | B13: 799 | C13: Pubblica | D13: 352.6 | E13: 39.02985 | F13: 16.417971
A14: Salerno | B14: 586 | C14: Pubblica | D14: 354.4 | E14: 43.138211 | F14: 13.073124
A15: L’Aquila | B15: 49 | C15: Pubblica | D15: 357.9 | E15: 41.561485 | F15: 14.668995
A16: Roma La Sapienza | C16: Pubblica | D16: 363.2 | E16: 41.49411 | F16: 13.831725
A17: Sassari | B17: 554 | C17: Pubblica | D17: 364.9 | E17: 45.611318 | F17: 8.901402
A18: Catanzaro | B18: 514 | C18: Pubblica | D18: 368.4 | E18: 38.91444 | F18: 16.584343
A19: Bari Jean Monnet | B19: 4093 | C19: Privata | D19: 369.2 | E19: 42.345949 | F19: 14.165408
A20: Reggio Calabria | B20: 511 | C20: Pubblica | D20: 370.2 | E20: 37.56584 | F20: 14.27183
A21: Cagliari | B21: 565 | C21: Pubblica | D21: 375.4 | E21: 44.838365 | F21: 11.61942
A22: Bari | B22: 635 | C22: Pubblica | D22: 380.7 | E22: 43.78237 | F22: 11.254995
A23: Roma Europea | B23: 5255 | C23: Privata | D23: 380.8 | E23: 41.46212 | F23: 15.544865
A24: Potenza | B24: 462 | C24: Pubblica | D24: 410.5 | E24: 44.410339 | F24: 8.9389
A25: Campobasso | C25: Pubblica | D25: 415.8 | E25: 42.353884 | F25: 13.394631
A26: Chieti Pescara | B26: 609 | C26: Pubblica | D26: 415.8 | E26: 40.357955 | F26: 18.16801
A27: Napoli II Università | B27: 826 | C27: Pubblica | D27: 415.8 | E27: 43.297695 | F27: 13.45583
A28: Roma Lumsa | B28: 2840 | C28: Privata | D28: 423.1 | E28: 38.17834 | F28: 15.55309
A29: Calabria | B29: 414 | C29: Pubblica | D29: 443.9 | E29: 45.468945 | F29: 9.18103
A30: Urbino | B30: 1133 | C30: Pubblica | D30: 447.4 | E30: 45.478945 | F30: 9.19103
A31: Benevento | C31: Pubblica | D31: 454.4 | E31: 45.488945 | F31: 9.20103
A32: Bergamo | B32: 883 | C32: Pubblica | D32: 456.1 | E32: 45.498945 | F32: 9.21103
A33: Napoli Federico II | B33: 844 | C33: Pubblica | D33: 471.9 | E33: 45.508945 | F33: 9.22103
A34: Roma Luspio | B34: 5507 | C34: Privata | D34: 476.9 | E34: 45.518945 | F34: 9.23103
A35: Valle d’Aosta | B35: 564 | C35: Privata | D35: 484.6 | E35: 45.528945 | F35: 9.24103
A36: Verona | B36: 987 | C36: Pubblica | D36: 491.2 | E36: 44.643115 | F36: 10.93408
A37: Milano Iulm | B37: 4481 | C37: Privata | D37: 492.3 | E37: 40.839941 | F37: 14.251762
A38: Milano Cattolica | B38: 4072 | C38: Privata | D38: 500 | E38: 40.849941 | F38: 14.261762
A39: Milano Statale | B39: 1499 | C39: Pubblica | D39: 503.5 | E39: 40.859941 | F39: 14.271762
A40: Torino | B40: 1119 | C40: Pubblica | D40: 526.3 | E40: 40.839941 | F40: 14.251762
A41: Bari Politecnico | B41: 342 | C41: Pubblica | D41: 528.1 | E41: 40.839941 | F41: 14.251762
A42: Brescia | B42: 1172 | C42: Pubblica | D42: 531.6 | E42: 45.409285 | F42: 11.872849
A43: Genova | B43: 1125 | C43: Pubblica | D43: 531.6 | E43: 38.121315 | F43: 13.358455
... A71: Milano San Raffaele | B71: 6190 | C71: Privata | D71: 838.5 | E71: 45.814757 | F71: 8.830132
A72: Bra Scienze Gastronomiche | B72: 11873 | C72: Privata | E72: 45.438254 | F72: 12.318495
A73: Roma Campus Biomedico | B73: 5556 | C73: Privata | E73: 45.448254 | F73: 12.328495
A74: Roma Foro Italico | B74: 1028 | C74: Pubblica | E74: 45.438113 | F74: 10.991505
A75: Siena Stranieri | B75: 1019 | C75: Pubblica | E75: 42.419722 | F75: 12.110072

Sheet Foglio1
B3: Università | C3: Retta | D3: Tipo | E3: Punteggio
B4: Napoli S.Orsola | C4: 1437 | D4: Privata | E4: 184.6
B5: Enna Kore | C5: 1852 | D5: Privata | E5: 196.2
B6: Napoli Parthenope | C6: 528 | D6: Pubblica | E6: 200
B7: Cassino | D7: Pubblica | E7: 270.2
B8: Roma Tre | C8: 799 | D8: Pubblica | E8: 277.2
B9: Napoli Orientale | D9: Pubblica | E9: 314
B10: Palermo | C10: 501 | D10: Pubblica | E10: 314
B11: Teramo | C11: 599 | D11: Pubblica | E11: 328.1
B12: Macerata | C12: 560 | D12: Pubblica | E12: 336.8
B13: Foggia | C13: 453 | D13: Pubblica | E13: 347.4
B14: Lecce | C14: 491 | D14: Pubblica | E14: 349.1
B15: Messina | C15: 799 | D15: Pubblica | E15: 352.6
B16: Salerno | C16: 586 | D16: Pubblica | E16: 354.4
B17: L’Aquila | C17: 49 | D17: Pubblica | E17: 357.9
B18: Roma La Sapienza | D18: Pubblica | E18: 363.2
B19: Sassari | C19: 554 | D19: Pubblica | E19: 364.9
B20: Catanzaro | C20: 514 | D20: Pubblica | E20: 368.4
B21: Bari Jean Monnet | C21: 4093 | D21: Privata | E21: 369.2
B22: Reggio Calabria | C22: 511 | D22: Pubblica | E22: 370.2
B23: Cagliari | C23: 565 | D23: Pubblica | E23: 375.4
B24: Bari | C24: 635 | D24: Pubblica | E24: 380.7
B25: Roma Europea | C25: 5255 | D25: Privata | E25: 380.8
B26: Potenza | C26: 462 | D26: Pubblica | E26: 410.5
B27: Campobasso | D27: Pubblica | E27: 415.8
B28: Chieti Pescara | C28: 609 | D28: Pubblica | E28: 415.8
B29: Napoli II Università | C29: 826 | D29: Pubblica | E29: 415.8
B30: Roma Lumsa | C30: 2840 | D30: Privata | E30: 423.1
B31: Calabria | C31: 414 | D31: Pubblica | E31: 443.9
B32: Urbino | C32: 1133 | D32: Pubblica | E32: 447.4
B33: Benevento | D33: Pubblica | E33: 454.4
B34: Bergamo | C34: 883 | D34: Pubblica | E34: 456.1
B35: Napoli Federico II | C35: 844 | D35: Pubblica | E35: 471.9
B36: Roma Luspio | C36: 5507 | D36: Privata | E36: 476.9
B37: Valle d’Aosta | C37: 564 | D37: Privata | E37: 484.6
B38: Verona | C38: 987 | D38: Pubblica | E38: 491.2
B39: Milano Iulm | C39: 4481 | D39: Privata | E39: 492.3
B40: Milano Cattolica | C40: 4072 | D40: Privata | E40: 500
B41: Milano Statale | C41: 1499 | D41: Pubblica | E41: 503.5
B42: Torino | C42: 1119 | D42: Pubblica | E42: 526.3
B43: Bari Politecnico | C43: 342 | D43: Pubblica | E43: 528.1
B44: Brescia | C44: 1172 | D44: Pubblica | E44: 531.6
B45: Genova | C45: 1125 | D45: Pubblica | E45: 531.6
... B73: Milano San Raffaele | C73: 6190 | D73: Privata | E73: 838.5
